BEGIN:VCALENDAR
VERSION:2.0
PRODID:-//Carnegie Screenwriters - ECPv6.15.1.1//NONSGML v1.0//EN
CALSCALE:GREGORIAN
METHOD:PUBLISH
X-ORIGINAL-URL:https://www.carnegiescreenwriters.com
X-WR-CALDESC:Events for Carnegie Screenwriters
REFRESH-INTERVAL;VALUE=DURATION:PT1H
X-Robots-Tag:noindex
X-PUBLISHED-TTL:PT1H
BEGIN:VTIMEZONE
TZID:America/New_York
BEGIN:DAYLIGHT
TZOFFSETFROM:-0500
TZOFFSETTO:-0400
TZNAME:EDT
DTSTART:20150308T070000
END:DAYLIGHT
BEGIN:STANDARD
TZOFFSETFROM:-0400
TZOFFSETTO:-0500
TZNAME:EST
DTSTART:20151101T060000
END:STANDARD
BEGIN:DAYLIGHT
TZOFFSETFROM:-0500
TZOFFSETTO:-0400
TZNAME:EDT
DTSTART:20160313T070000
END:DAYLIGHT
BEGIN:STANDARD
TZOFFSETFROM:-0400
TZOFFSETTO:-0500
TZNAME:EST
DTSTART:20161106T060000
END:STANDARD
BEGIN:DAYLIGHT
TZOFFSETFROM:-0500
TZOFFSETTO:-0400
TZNAME:EDT
DTSTART:20170312T070000
END:DAYLIGHT
BEGIN:STANDARD
TZOFFSETFROM:-0400
TZOFFSETTO:-0500
TZNAME:EST
DTSTART:20171105T060000
END:STANDARD
BEGIN:DAYLIGHT
TZOFFSETFROM:-0500
TZOFFSETTO:-0400
TZNAME:EDT
DTSTART:20180311T070000
END:DAYLIGHT
BEGIN:STANDARD
TZOFFSETFROM:-0400
TZOFFSETTO:-0500
TZNAME:EST
DTSTART:20181104T060000
END:STANDARD
BEGIN:DAYLIGHT
TZOFFSETFROM:-0500
TZOFFSETTO:-0400
TZNAME:EDT
DTSTART:20190310T070000
END:DAYLIGHT
BEGIN:STANDARD
TZOFFSETFROM:-0400
TZOFFSETTO:-0500
TZNAME:EST
DTSTART:20191103T060000
END:STANDARD
BEGIN:DAYLIGHT
TZOFFSETFROM:-0500
TZOFFSETTO:-0400
TZNAME:EDT
DTSTART:20200308T070000
END:DAYLIGHT
BEGIN:STANDARD
TZOFFSETFROM:-0400
TZOFFSETTO:-0500
TZNAME:EST
DTSTART:20201101T060000
END:STANDARD
BEGIN:DAYLIGHT
TZOFFSETFROM:-0500
TZOFFSETTO:-0400
TZNAME:EDT
DTSTART:20210314T070000
END:DAYLIGHT
BEGIN:STANDARD
TZOFFSETFROM:-0400
TZOFFSETTO:-0500
TZNAME:EST
DTSTART:20211107T060000
END:STANDARD
BEGIN:DAYLIGHT
TZOFFSETFROM:-0500
TZOFFSETTO:-0400
TZNAME:EDT
DTSTART:20220313T070000
END:DAYLIGHT
BEGIN:STANDARD
TZOFFSETFROM:-0400
TZOFFSETTO:-0500
TZNAME:EST
DTSTART:20221106T060000
END:STANDARD
BEGIN:DAYLIGHT
TZOFFSETFROM:-0500
TZOFFSETTO:-0400
TZNAME:EDT
DTSTART:20230312T070000
END:DAYLIGHT
BEGIN:STANDARD
TZOFFSETFROM:-0400
TZOFFSETTO:-0500
TZNAME:EST
DTSTART:20231105T060000
END:STANDARD
END:VTIMEZONE
BEGIN:VTIMEZONE
TZID:UTC
BEGIN:STANDARD
TZOFFSETFROM:+0000
TZOFFSETTO:+0000
TZNAME:UTC
DTSTART:20170101T000000
END:STANDARD
END:VTIMEZONE
BEGIN:VEVENT
DTSTART;TZID=America/New_York:20230519T210000
DTEND;TZID=America/New_York:20230519T230000
DTSTAMP:20260423T180019
CREATED:20230513T185852Z
LAST-MODIFIED:20230513T185852Z
UID:633-1684530000-1684537200@www.carnegiescreenwriters.com
SUMMARY:CSW 48 Hour Film Screening
DESCRIPTION:Share this:Click to email a link to a friend (Opens in new window)Click to share on Facebook (Opens in new window)Click to share on Twitter (Opens in new window)
URL:https://www.carnegiescreenwriters.com/event/csw-48-hour-film-screening/
LOCATION:Oaks Theater\, 310 Allegheny River Blvd\, Oakmont\, PA\, 15139\, United States
CATEGORIES:48HFP,Film Screenings
END:VEVENT
BEGIN:VEVENT
DTSTART;TZID=UTC:20170722T213000
DTEND;TZID=UTC:20170722T230000
DTSTAMP:20260423T180019
CREATED:20170723T011708Z
LAST-MODIFIED:20170723T011824Z
UID:379-1500759000-1500764400@www.carnegiescreenwriters.com
SUMMARY:CSW film screening for the Pittsburgh 48 Hour Film Project
DESCRIPTION:The Carnegie Screenwriters have once again made a film as part of the 48 Hour Film Project – Pittsburgh.\nOur film will screen as part of Screening Group C – Saturday\, July 22\, 9:30pm\, Oaks Theater in Oakmont.\n“This Is How We Roll\,” a mockumentary by Chad Shannon and Catherine Dawgert\nDirected by Carrie Collins Zenkevich\n\nA documentary examines the cutthroat world of competitive Yahtzee.\n\nFeaturing: Ken Bolden\, Jill Black\, Alex Parrish\, Campbell Kurlander\, Kendall Yeaman & Ethan Yeaman\n\nhttps://www.facebook.com/events/1853289568266178/?acontext=%7B%22ref%22%3A%224%22%2C%22action_history%22%3A%22null%22%7D\n\nShare this:Click to email a link to a friend (Opens in new window)Click to share on Facebook (Opens in new window)Click to share on Twitter (Opens in new window)
URL:https://www.carnegiescreenwriters.com/event/csw-film-screening-pittsburgh-48-hour-film-project/
LOCATION:Oaks Theater\, 310 Allegheny River Blvd\, Oakmont\, PA\, 15139\, United States
CATEGORIES:48HFP
END:VEVENT
BEGIN:VEVENT
DTSTART;TZID=America/New_York:20150610T190000
DTEND;TZID=America/New_York:20150610T210000
DTSTAMP:20260423T180019
CREATED:20150610T181048Z
LAST-MODIFIED:20150610T181048Z
UID:168-1433962800-1433970000@www.carnegiescreenwriters.com
SUMMARY:48HFP Planning Meeting
DESCRIPTION:We’re meeting Wednesday\, June 10\, at 7 pm at Riley’s Pour House in Carnegie to discuss the 48 Hour Film Project. Ian Altenbaugh is directing for CSW. We need to discuss production team\, the writing process\, how to handle casting\, locations\, etc. Join us if you can. \nShare this:Click to email a link to a friend (Opens in new window)Click to share on Facebook (Opens in new window)Click to share on Twitter (Opens in new window)
URL:https://www.carnegiescreenwriters.com/event/48hfp-planning-meeting/
LOCATION:Riley’s Pour House\, 215 E Main St.\, Carnegie\, PA\, 15106\, United States
CATEGORIES:48HFP
END:VEVENT
END:VCALENDAR