BEGIN:VCALENDAR
VERSION:2.0
PRODID:-//Carnegie Screenwriters - ECPv6.15.1.1//NONSGML v1.0//EN
CALSCALE:GREGORIAN
METHOD:PUBLISH
X-WR-CALNAME:Carnegie Screenwriters
X-ORIGINAL-URL:https://www.carnegiescreenwriters.com
X-WR-CALDESC:Events for Carnegie Screenwriters
REFRESH-INTERVAL;VALUE=DURATION:PT1H
X-Robots-Tag:noindex
X-PUBLISHED-TTL:PT1H
BEGIN:VTIMEZONE
TZID:UTC
BEGIN:STANDARD
TZOFFSETFROM:+0000
TZOFFSETTO:+0000
TZNAME:UTC
DTSTART:20180101T000000
END:STANDARD
END:VTIMEZONE
BEGIN:VEVENT
DTSTART;TZID=UTC:20180715T180000
DTEND;TZID=UTC:20180715T210000
DTSTAMP:20260423T180606
CREATED:20180706T021324Z
LAST-MODIFIED:20180706T021556Z
UID:471-1531677600-1531688400@www.carnegiescreenwriters.com
SUMMARY:Seated Readings and Fundraiser for the CSW Script & Screen Festival
DESCRIPTION:On Sunday\, July 15 we will host our seated reading and lucky draw raffle to raise funds for this year’s Carnegie Screenwriters Script and Screen Festival. Folks attending will be treated to a reading of one of last year’s winning scripts\, “Dig”\, by local writer Robert Brian Taylor as well as have the opportunity to win fantastic prizes in our lucky draw raffle event.\n\nRaffle prizes include a copy of Final Draft. They are again one of our sponsors and donated the writing software.\n\n \n\nAll proceeds will go towards our festival which will be held at the Tull Family theater in Sewickley on August 25th and 26th.\n \nCSW Seated Reading and Fundraiser\nJuly 15\n6:00-9:00 pm\n3rd Street Gallery\n220 3rd St.\, Carnegie 15106\nShare this:Click to email a link to a friend (Opens in new window)Click to share on Facebook (Opens in new window)Click to share on Twitter (Opens in new window)
URL:https://www.carnegiescreenwriters.com/event/seated-readings-fundraiser-csw-script-screen-festival/
LOCATION:Third Street Gallery\, 220 3rd Street\, Carnegie\, PA\, 15106\, United States
CATEGORIES:Fundraiser,Script & Film Contest,Script Readings
END:VEVENT
BEGIN:VEVENT
DTSTART;TZID=UTC:20180127T110000
DTEND;TZID=UTC:20180127T160000
DTSTAMP:20260423T180606
CREATED:20180113T032653Z
LAST-MODIFIED:20180113T032653Z
UID:442-1517050800-1517068800@www.carnegiescreenwriters.com
SUMMARY:SCENE WRITING CLASS & FUNDRAISER FOR LAURIE AND DENNIS
DESCRIPTION:CSW is holding a scene writing class led by screenwriter\, filmmaker and story analyst Jim Mercurio. The event is a fundraiser for Laurie Smith and Dennis Greene who lost everything in a Christmas Day fire. All proceeds go to them. \n\nhttps://www.eventbrite.com/e/scene-writing-class-fundraiser-for-laurie-and-dennis-tickets-42120194636?utm-medium=discovery&utm-campaign=social&utm-content=attendeeshare&aff=esfb&utm-source=fb&utm-term=listing\n \n \n\nSCENE WRITING CLASS & FUNDRAISER FOR LAURIE AND DENNIS\nCarnegie Screenwriters presents Advanced Scene Writing with Jim Mercurio. This event is a benefit for local filmmakers Laurie Smith Greene and Dennis Greene whose home in McKees Rocks was destroyed by a fire on Christmas Day. They lost everything in the fire and need our help. All proceeds from the event will go directly to Laurie and Dennis to help them rebuild their lives.\nLaurie is a filmmaker who has worked on Carnegie Screenwriters projects with us including “Test 89” for the 48 Hour Film Project (she won Best Cinematography) and “Silent Tales” the documentary about the Richland Cemetery in Dravosburg. Jim Mercurio is an award-winning filmmaker and story analyst whose book The Craft of Scene Writing will be released later this year.\nAdvanced Scene Writing – Four-hour Class with Lecture\, Clips and Discussion\nDATE: Saturday\, January 27\nTIME: 11 AM – 4 PM (Lunch Provided)\nLOCATION: The Wilkins School Community Center\n7604 Charleston Ave.\nPittsburgh\, PA 15218\nhttps://wsccpgh.org/\nPRICE: $25\nThere are a limited number of seats and we want to make accurate plans for lunch\, so please sign up online. Walk-ins welcome\, but pre-registration is preferred.\nABOUT THE CLASS\nDon’t think of scene writing as a specialty or niche craft applicable for only storytellers of short-form narratives such as commercials\, skits\, sketches and shorts. It is for everyone who uses the principles of narrative in their work — editors\, composers\, songwriters\, actors\, directors\, producers\, novelists\, and of course screenwriters — ALL STORYTELLERS.\nScene writing is storytelling in its purest form.\nHow can you masterfully “turn” a 100-page script if you can’t master the climactic “turn” of a 3-page story?\nThe nitty-gritty craft principles of scene writing helps writers succeed both creatively and professionally. This class focuses on craft\, and craft usually takes care of much of the business side. Jack Nicholson says he won’t do a movie unless it has at least five amazing moments. The scenes in your script have to be as good as its structure. Structure alone does not lead to a great screenplay.\nRegardless of the specific state of the industry\, the spec market always favors a script that is ready to go and writers who can deliver a near-flawless\, ready-to-shoot draft. It’s not enough to have only a cool concept. A polished script with bulletproof execution can skip the development process and allows producers or agents to submit it immediately to actors or directors — the linchpins of the packaging process — whose involvement can lead to a sale and production\nCreate more emotional scenes and hone your unique voice while giving your script the best chance to succeed in the competitive spec market.\nWHAT YOU WILL LEARN\n\nWorking definition of a scene and its elements\nThe source and essence of surprise and organics reversals\nThe importance of climax and how to accentuate it\nHow to “break the rules” like Woody Allen\, Quentin Tarantino and David Mamet do\nNew principles like “smashability\,” extended beats and writing to concept\nRewriting strategies for your scenes\n\nIf you cannot afford the fee\, contact Jim (jim (at) jamespmercurio.com)\, and we will make it work.\nUpdates will be posted on the Carnegie Screenwriters Facebook Page and via email.\n\nShare this:Click to email a link to a friend (Opens in new window)Click to share on Facebook (Opens in new window)Click to share on Twitter (Opens in new window)
URL:https://www.carnegiescreenwriters.com/event/scene-writing-class-fundraiser-laurie-dennis/
LOCATION:Wilkins School Community Center\, 7604 Charleston Ave.\, Pittsburgh\, PA\, 15218\, United States
CATEGORIES:Fundraiser,Screenwriting Class
END:VEVENT
END:VCALENDAR